BEGIN:VCALENDAR
VERSION:2.0
PRODID:-//ARFCV - ECPv6.3.6//NONSGML v1.0//EN
CALSCALE:GREGORIAN
METHOD:PUBLISH
X-ORIGINAL-URL:https://www.arfcv.fr
X-WR-CALDESC:évènements pour ARFCV
REFRESH-INTERVAL;VALUE=DURATION:PT1H
X-Robots-Tag:noindex
X-PUBLISHED-TTL:PT1H
BEGIN:VTIMEZONE
TZID:Europe/Brussels
BEGIN:DAYLIGHT
TZOFFSETFROM:+0100
TZOFFSETTO:+0200
TZNAME:CEST
DTSTART:20210328T010000
END:DAYLIGHT
BEGIN:STANDARD
TZOFFSETFROM:+0200
TZOFFSETTO:+0100
TZNAME:CET
DTSTART:20211031T010000
END:STANDARD
END:VTIMEZONE
BEGIN:VEVENT
DTSTART;TZID=Europe/Brussels:20210323T070000
DTEND;TZID=Europe/Brussels:20210323T080000
DTSTAMP:20260424T035027
CREATED:20210719T100631Z
LAST-MODIFIED:20210722T085822Z
UID:733-1616482800-1616486400@www.arfcv.fr
SUMMARY:JC - Thoracolumbar spine
DESCRIPTION:Journal Club
URL:https://www.arfcv.fr/event/jc-effect-of-durotomy-in-dogs-with-thoracolumbar-disc-herniation-and-without-deep-pain-perception-in-the-hind-limbs/
END:VEVENT
END:VCALENDAR