BEGIN:VCALENDAR
VERSION:2.0
PRODID:-//ARFCV - ECPv6.3.6//NONSGML v1.0//EN
CALSCALE:GREGORIAN
METHOD:PUBLISH
X-WR-CALNAME:ARFCV
X-ORIGINAL-URL:https://www.arfcv.fr
X-WR-CALDESC:évènements pour ARFCV
REFRESH-INTERVAL;VALUE=DURATION:PT1H
X-Robots-Tag:noindex
X-PUBLISHED-TTL:PT1H
BEGIN:VTIMEZONE
TZID:Europe/Brussels
BEGIN:DAYLIGHT
TZOFFSETFROM:+0100
TZOFFSETTO:+0200
TZNAME:CEST
DTSTART:20210328T010000
END:DAYLIGHT
BEGIN:STANDARD
TZOFFSETFROM:+0200
TZOFFSETTO:+0100
TZNAME:CET
DTSTART:20211031T010000
END:STANDARD
END:VTIMEZONE
BEGIN:VEVENT
DTSTART;TZID=Europe/Brussels:20210706T070000
DTEND;TZID=Europe/Brussels:20210706T080000
DTSTAMP:20260423T202031
CREATED:20210719T101414Z
LAST-MODIFIED:20210722T085904Z
UID:748-1625554800-1625558400@www.arfcv.fr
SUMMARY:JC - Infection site
DESCRIPTION:Journal Club
URL:https://www.arfcv.fr/event/jc-efficacy-of-postoperative-antibiotic-use-after-tibial-plateau-leveling-osteotomy-in-dogs-a-systematic-review/
END:VEVENT
END:VCALENDAR