BEGIN:VCALENDAR
VERSION:2.0
PRODID:-//ARFCV - ECPv6.3.6//NONSGML v1.0//EN
CALSCALE:GREGORIAN
METHOD:PUBLISH
X-ORIGINAL-URL:https://www.arfcv.fr
X-WR-CALDESC:évènements pour ARFCV
REFRESH-INTERVAL;VALUE=DURATION:PT1H
X-Robots-Tag:noindex
X-PUBLISHED-TTL:PT1H
BEGIN:VTIMEZONE
TZID:Europe/Brussels
BEGIN:DAYLIGHT
TZOFFSETFROM:+0100
TZOFFSETTO:+0200
TZNAME:CEST
DTSTART:20210328T010000
END:DAYLIGHT
BEGIN:STANDARD
TZOFFSETFROM:+0200
TZOFFSETTO:+0100
TZNAME:CET
DTSTART:20211031T010000
END:STANDARD
END:VTIMEZONE
BEGIN:VEVENT
DTSTART;TZID=Europe/Brussels:20210921T073000
DTEND;TZID=Europe/Brussels:20210921T083000
DTSTAMP:20260423T165601
CREATED:20210902T034138Z
LAST-MODIFIED:20210902T034138Z
UID:977-1632209400-1632213000@www.arfcv.fr
SUMMARY:JC - Litiase ureterale
DESCRIPTION:Journal Club
URL:https://www.arfcv.fr/event/jc-litiase-ureterale/
END:VEVENT
END:VCALENDAR