BEGIN:VCALENDAR
VERSION:2.0
PRODID:-//ARFCV - ECPv6.3.6//NONSGML v1.0//EN
CALSCALE:GREGORIAN
METHOD:PUBLISH
X-ORIGINAL-URL:https://www.arfcv.fr
X-WR-CALDESC:évènements pour ARFCV
REFRESH-INTERVAL;VALUE=DURATION:PT1H
X-Robots-Tag:noindex
X-PUBLISHED-TTL:PT1H
BEGIN:VTIMEZONE
TZID:Europe/Brussels
BEGIN:DAYLIGHT
TZOFFSETFROM:+0100
TZOFFSETTO:+0200
TZNAME:CEST
DTSTART:20220327T010000
END:DAYLIGHT
BEGIN:STANDARD
TZOFFSETFROM:+0200
TZOFFSETTO:+0100
TZNAME:CET
DTSTART:20221030T010000
END:STANDARD
END:VTIMEZONE
BEGIN:VEVENT
DTSTART;TZID=Europe/Brussels:20220301T070000
DTEND;TZID=Europe/Brussels:20220301T080000
DTSTAMP:20260423T063418
CREATED:20220210T154535Z
LAST-MODIFIED:20220210T154535Z
UID:1232-1646118000-1646121600@www.arfcv.fr
SUMMARY:TC - foie et voies biliaires partie 2
DESCRIPTION:Tobias Club
URL:https://www.arfcv.fr/event/tc-foie-et-voies-biliaires-partie-2/
END:VEVENT
END:VCALENDAR