BEGIN:VCALENDAR
VERSION:2.0
PRODID:-//ARFCV - ECPv6.3.6//NONSGML v1.0//EN
CALSCALE:GREGORIAN
METHOD:PUBLISH
X-WR-CALNAME:ARFCV
X-ORIGINAL-URL:https://www.arfcv.fr
X-WR-CALDESC:évènements pour ARFCV
REFRESH-INTERVAL;VALUE=DURATION:PT1H
X-Robots-Tag:noindex
X-PUBLISHED-TTL:PT1H
BEGIN:VTIMEZONE
TZID:Europe/Brussels
BEGIN:DAYLIGHT
TZOFFSETFROM:+0100
TZOFFSETTO:+0200
TZNAME:CEST
DTSTART:20220327T010000
END:DAYLIGHT
BEGIN:STANDARD
TZOFFSETFROM:+0200
TZOFFSETTO:+0100
TZNAME:CET
DTSTART:20221030T010000
END:STANDARD
END:VTIMEZONE
BEGIN:VEVENT
DTSTART;TZID=Europe/Brussels:20220621T070000
DTEND;TZID=Europe/Brussels:20220621T080000
DTSTAMP:20260423T004601
CREATED:20220221T171604Z
LAST-MODIFIED:20220221T174103Z
UID:1245-1655794800-1655798400@www.arfcv.fr
SUMMARY:JC - JC LEPERLIER – THIBAULT ORTHOPEDIE
DESCRIPTION:Journal Club
URL:https://www.arfcv.fr/event/jc-jc-leperlier-thibault-orthopedie/
END:VEVENT
END:VCALENDAR