BEGIN:VCALENDAR
VERSION:2.0
PRODID:-//ARFCV - ECPv6.3.6//NONSGML v1.0//EN
CALSCALE:GREGORIAN
METHOD:PUBLISH
X-ORIGINAL-URL:https://www.arfcv.fr
X-WR-CALDESC:évènements pour ARFCV
REFRESH-INTERVAL;VALUE=DURATION:PT1H
X-Robots-Tag:noindex
X-PUBLISHED-TTL:PT1H
BEGIN:VTIMEZONE
TZID:Europe/Brussels
BEGIN:DAYLIGHT
TZOFFSETFROM:+0100
TZOFFSETTO:+0200
TZNAME:CEST
DTSTART:20250330T010000
END:DAYLIGHT
BEGIN:STANDARD
TZOFFSETFROM:+0200
TZOFFSETTO:+0100
TZNAME:CET
DTSTART:20251026T010000
END:STANDARD
END:VTIMEZONE
BEGIN:VEVENT
DTSTART;TZID=Europe/Brussels:20251007T070000
DTEND;TZID=Europe/Brussels:20251007T080000
DTSTAMP:20260421T121702
CREATED:20250926T165753Z
LAST-MODIFIED:20250926T165753Z
UID:2433-1759820400-1759824000@www.arfcv.fr
SUMMARY:JC - Thorax
DESCRIPTION:Journal Club
URL:https://www.arfcv.fr/event/jc-thorax/
END:VEVENT
END:VCALENDAR