BEGIN:VCALENDAR
VERSION:2.0
PRODID:-//ARFCV - ECPv6.3.6//NONSGML v1.0//EN
CALSCALE:GREGORIAN
METHOD:PUBLISH
X-ORIGINAL-URL:https://www.arfcv.fr
X-WR-CALDESC:évènements pour ARFCV
REFRESH-INTERVAL;VALUE=DURATION:PT1H
X-Robots-Tag:noindex
X-PUBLISHED-TTL:PT1H
BEGIN:VTIMEZONE
TZID:Europe/Brussels
BEGIN:DAYLIGHT
TZOFFSETFROM:+0100
TZOFFSETTO:+0200
TZNAME:CEST
DTSTART:20210328T010000
END:DAYLIGHT
BEGIN:STANDARD
TZOFFSETFROM:+0200
TZOFFSETTO:+0100
TZNAME:CET
DTSTART:20211031T010000
END:STANDARD
END:VTIMEZONE
BEGIN:VEVENT
DTSTART;TZID=Europe/Brussels:20210302T070000
DTEND;TZID=Europe/Brussels:20210302T080000
DTSTAMP:20260424T015104
CREATED:20210706T092019Z
LAST-MODIFIED:20210706T092019Z
UID:680-1614668400-1614672000@www.arfcv.fr
SUMMARY:TC - Carpus\, Metacarpus\, and Digits
DESCRIPTION:Tobias Club
URL:https://www.arfcv.fr/event/tc-carpus-metacarpus-and-digits/
END:VEVENT
BEGIN:VEVENT
DTSTART;TZID=Europe/Brussels:20210309T070000
DTEND;TZID=Europe/Brussels:20210309T080000
DTSTAMP:20260424T015104
CREATED:20210719T100551Z
LAST-MODIFIED:20210722T085816Z
UID:731-1615273200-1615276800@www.arfcv.fr
SUMMARY:JC - SUB
DESCRIPTION:Journal Club
URL:https://www.arfcv.fr/event/jc-diagnostic-imaging-observations-in-cats-treated-with-the-subcutaneous-ureteral-bypass-system/
END:VEVENT
BEGIN:VEVENT
DTSTART;TZID=Europe/Brussels:20210316T070000
DTEND;TZID=Europe/Brussels:20210316T080000
DTSTAMP:20260424T015104
CREATED:20210706T092042Z
LAST-MODIFIED:20210706T092042Z
UID:682-1615878000-1615881600@www.arfcv.fr
SUMMARY:TC - Hip Luxation –
DESCRIPTION:Tobias Club
URL:https://www.arfcv.fr/event/tc-hip-luxation/
END:VEVENT
BEGIN:VEVENT
DTSTART;TZID=Europe/Brussels:20210323T070000
DTEND;TZID=Europe/Brussels:20210323T080000
DTSTAMP:20260424T015104
CREATED:20210719T100631Z
LAST-MODIFIED:20210722T085822Z
UID:733-1616482800-1616486400@www.arfcv.fr
SUMMARY:JC - Thoracolumbar spine
DESCRIPTION:Journal Club
URL:https://www.arfcv.fr/event/jc-effect-of-durotomy-in-dogs-with-thoracolumbar-disc-herniation-and-without-deep-pain-perception-in-the-hind-limbs/
END:VEVENT
BEGIN:VEVENT
DTSTART;TZID=Europe/Brussels:20210330T070000
DTEND;TZID=Europe/Brussels:20210330T080000
DTSTAMP:20260424T015104
CREATED:20210706T092127Z
LAST-MODIFIED:20210706T092127Z
UID:684-1617087600-1617091200@www.arfcv.fr
SUMMARY:TC - Pathogenesis\, Diagnosis\, and Control of Canine Hip Dysplasia
DESCRIPTION:Tobias Club
URL:https://www.arfcv.fr/event/tc-pathogenesis-diagnosis-and-control-of-canine-hip-dysplasia/
END:VEVENT
END:VCALENDAR