BEGIN:VCALENDAR
VERSION:2.0
PRODID:-//ARFCV - ECPv6.3.6//NONSGML v1.0//EN
CALSCALE:GREGORIAN
METHOD:PUBLISH
X-ORIGINAL-URL:https://www.arfcv.fr
X-WR-CALDESC:évènements pour ARFCV
REFRESH-INTERVAL;VALUE=DURATION:PT1H
X-Robots-Tag:noindex
X-PUBLISHED-TTL:PT1H
BEGIN:VTIMEZONE
TZID:Europe/Brussels
BEGIN:DAYLIGHT
TZOFFSETFROM:+0100
TZOFFSETTO:+0200
TZNAME:CEST
DTSTART:20210328T010000
END:DAYLIGHT
BEGIN:STANDARD
TZOFFSETFROM:+0200
TZOFFSETTO:+0100
TZNAME:CET
DTSTART:20211031T010000
END:STANDARD
END:VTIMEZONE
BEGIN:VEVENT
DTSTART;TZID=Europe/Brussels:20211005T070000
DTEND;TZID=Europe/Brussels:20211005T080000
DTSTAMP:20260423T132618
CREATED:20210726T161733Z
LAST-MODIFIED:20211011T090850Z
UID:860-1633417200-1633420800@www.arfcv.fr
SUMMARY:TC - Stomach
DESCRIPTION:Tobias Club
URL:https://www.arfcv.fr/event/tc-stomach/
END:VEVENT
BEGIN:VEVENT
DTSTART;TZID=Europe/Brussels:20211012T070000
DTEND;TZID=Europe/Brussels:20211012T080000
DTSTAMP:20260423T132618
CREATED:20211005T152153Z
LAST-MODIFIED:20211005T152153Z
UID:1106-1634022000-1634025600@www.arfcv.fr
SUMMARY:JC - Portosystemic shunt – Antoine Bernardé
DESCRIPTION:Journal Club
URL:https://www.arfcv.fr/event/jc-portosystemic-shunt-antoine-bernarde/
END:VEVENT
BEGIN:VEVENT
DTSTART;TZID=Europe/Brussels:20211019T070000
DTEND;TZID=Europe/Brussels:20211019T080000
DTSTAMP:20260423T132618
CREATED:20210926T173421Z
LAST-MODIFIED:20211005T152853Z
UID:1057-1634626800-1634630400@www.arfcv.fr
SUMMARY:JC - Patellar luxation : Mathilde Millet
DESCRIPTION:Journal Club
URL:https://www.arfcv.fr/event/jc-porto-systemic-shunt/
END:VEVENT
BEGIN:VEVENT
DTSTART;TZID=Europe/Brussels:20211026T070000
DTEND;TZID=Europe/Brussels:20211026T080000
DTSTAMP:20260423T132618
CREATED:20210726T161745Z
LAST-MODIFIED:20211025T203334Z
UID:862-1635231600-1635235200@www.arfcv.fr
SUMMARY:TC - Small Intestine
DESCRIPTION:Tobias Club
URL:https://www.arfcv.fr/event/tc-small-intestine/
END:VEVENT
END:VCALENDAR