BEGIN:VCALENDAR
VERSION:2.0
PRODID:-//ARFCV - ECPv6.3.6//NONSGML v1.0//EN
CALSCALE:GREGORIAN
METHOD:PUBLISH
X-WR-CALNAME:ARFCV
X-ORIGINAL-URL:https://www.arfcv.fr
X-WR-CALDESC:évènements pour ARFCV
REFRESH-INTERVAL;VALUE=DURATION:PT1H
X-Robots-Tag:noindex
X-PUBLISHED-TTL:PT1H
BEGIN:VTIMEZONE
TZID:Europe/Brussels
BEGIN:DAYLIGHT
TZOFFSETFROM:+0100
TZOFFSETTO:+0200
TZNAME:CEST
DTSTART:20210328T010000
END:DAYLIGHT
BEGIN:STANDARD
TZOFFSETFROM:+0200
TZOFFSETTO:+0100
TZNAME:CET
DTSTART:20211031T010000
END:STANDARD
END:VTIMEZONE
BEGIN:VEVENT
DTSTART;TZID=Europe/Brussels:20211102T070000
DTEND;TZID=Europe/Brussels:20211102T080000
DTSTAMP:20260423T115130
CREATED:20210924T071732Z
LAST-MODIFIED:20211005T153652Z
UID:1047-1635836400-1635840000@www.arfcv.fr
SUMMARY:JC - Neurologie: lombosacrée
DESCRIPTION:Journal Club
URL:https://www.arfcv.fr/event/jc-neurologie-lombosacree/
END:VEVENT
BEGIN:VEVENT
DTSTART;TZID=Europe/Brussels:20211109T070000
DTEND;TZID=Europe/Brussels:20211109T080000
DTSTAMP:20260423T115130
CREATED:20210726T161801Z
LAST-MODIFIED:20210830T140409Z
UID:864-1636441200-1636444800@www.arfcv.fr
SUMMARY:TC - Colon
DESCRIPTION:Tobias Club
URL:https://www.arfcv.fr/event/tc-colon/
END:VEVENT
BEGIN:VEVENT
DTSTART;TZID=Europe/Brussels:20211116T070000
DTEND;TZID=Europe/Brussels:20211116T080000
DTSTAMP:20260423T115130
CREATED:20211004T182911Z
LAST-MODIFIED:20211005T153606Z
UID:1071-1637046000-1637049600@www.arfcv.fr
SUMMARY:JC - Gastropexy (Luis MATRES LORENZO)
DESCRIPTION:Journal Club
URL:https://www.arfcv.fr/event/jc-gastropexy-luis-matres-lorenzo/
END:VEVENT
BEGIN:VEVENT
DTSTART;TZID=Europe/Brussels:20211118T193000
DTEND;TZID=Europe/Brussels:20211118T193000
DTSTAMP:20260423T115130
CREATED:20211005T095502Z
LAST-MODIFIED:20211112T064953Z
UID:1086-1637263800-1637263800@www.arfcv.fr
SUMMARY:PRES - B.A. ba de la biomécanique
DESCRIPTION:
URL:https://www.arfcv.fr/event/pres-b-a-ba-de-la-biomecanique/
CATEGORIES:Présentation
END:VEVENT
BEGIN:VEVENT
DTSTART;TZID=Europe/Brussels:20211123T070000
DTEND;TZID=Europe/Brussels:20211123T080000
DTSTAMP:20260423T115130
CREATED:20211111T204327Z
LAST-MODIFIED:20211111T204327Z
UID:1156-1637650800-1637654400@www.arfcv.fr
SUMMARY:TC - Colon
DESCRIPTION:Tobias Club
URL:https://www.arfcv.fr/event/tc-colon-2/
END:VEVENT
BEGIN:VEVENT
DTSTART;TZID=Europe/Brussels:20211130T070000
DTEND;TZID=Europe/Brussels:20211130T080000
DTSTAMP:20260423T115130
CREATED:20211006T134443Z
LAST-MODIFIED:20211006T134443Z
UID:1119-1638255600-1638259200@www.arfcv.fr
SUMMARY:JC - urinaire (SUB) et vagin
DESCRIPTION:Journal Club
URL:https://www.arfcv.fr/event/jc-urinaire-sub-et-vagin/
END:VEVENT
END:VCALENDAR