BEGIN:VCALENDAR
VERSION:2.0
PRODID:-//ARFCV - ECPv6.3.6//NONSGML v1.0//EN
CALSCALE:GREGORIAN
METHOD:PUBLISH
X-ORIGINAL-URL:https://www.arfcv.fr
X-WR-CALDESC:évènements pour ARFCV
REFRESH-INTERVAL;VALUE=DURATION:PT1H
X-Robots-Tag:noindex
X-PUBLISHED-TTL:PT1H
BEGIN:VTIMEZONE
TZID:Europe/Brussels
BEGIN:DAYLIGHT
TZOFFSETFROM:+0100
TZOFFSETTO:+0200
TZNAME:CEST
DTSTART:20220327T010000
END:DAYLIGHT
BEGIN:STANDARD
TZOFFSETFROM:+0200
TZOFFSETTO:+0100
TZNAME:CET
DTSTART:20221030T010000
END:STANDARD
END:VTIMEZONE
BEGIN:VEVENT
DTSTART;TZID=Europe/Brussels:20220201T070000
DTEND;TZID=Europe/Brussels:20220201T080000
DTSTAMP:20260423T063932
CREATED:20220131T070448Z
LAST-MODIFIED:20220131T070448Z
UID:1227-1643698800-1643702400@www.arfcv.fr
SUMMARY:TC - Rectum\, Anus\, and Perineum
DESCRIPTION:Tobias Club
URL:https://www.arfcv.fr/event/tc-rectum-anus-and-perineum-3/
END:VEVENT
BEGIN:VEVENT
DTSTART;TZID=Europe/Brussels:20220208T070000
DTEND;TZID=Europe/Brussels:20220208T080000
DTSTAMP:20260423T063932
CREATED:20211228T094015Z
LAST-MODIFIED:20211230T170658Z
UID:1177-1644303600-1644307200@www.arfcv.fr
SUMMARY:JC - Brachycepahalic obstructive airway syndrome. 423 cases rétrospective study.
DESCRIPTION:Journal Club
URL:https://www.arfcv.fr/event/jc-brachycepahalic-obstructive-airway-syndrome-423-cases-retrospective-study/
END:VEVENT
BEGIN:VEVENT
DTSTART;TZID=Europe/Brussels:20220215T070000
DTEND;TZID=Europe/Brussels:20220215T080000
DTSTAMP:20260423T063932
CREATED:20220209T082810Z
LAST-MODIFIED:20220209T082810Z
UID:1230-1644908400-1644912000@www.arfcv.fr
SUMMARY:TC - Liver and Biliary System
DESCRIPTION:Tobias Club
URL:https://www.arfcv.fr/event/tc-liver-and-biliary-system/
END:VEVENT
BEGIN:VEVENT
DTSTART;TZID=Europe/Brussels:20220222T070000
DTEND;TZID=Europe/Brussels:20220222T080000
DTSTAMP:20260423T063932
CREATED:20220127T125238Z
LAST-MODIFIED:20220127T125238Z
UID:1206-1645513200-1645516800@www.arfcv.fr
SUMMARY:JC - oncologie
DESCRIPTION:Journal Club
URL:https://www.arfcv.fr/event/jc-oncologie/
END:VEVENT
END:VCALENDAR