BEGIN:VCALENDAR
VERSION:2.0
PRODID:-//ARFCV - ECPv6.3.6//NONSGML v1.0//EN
CALSCALE:GREGORIAN
METHOD:PUBLISH
X-ORIGINAL-URL:https://www.arfcv.fr
X-WR-CALDESC:évènements pour ARFCV
REFRESH-INTERVAL;VALUE=DURATION:PT1H
X-Robots-Tag:noindex
X-PUBLISHED-TTL:PT1H
BEGIN:VTIMEZONE
TZID:Europe/Brussels
BEGIN:DAYLIGHT
TZOFFSETFROM:+0100
TZOFFSETTO:+0200
TZNAME:CEST
DTSTART:20220327T010000
END:DAYLIGHT
BEGIN:STANDARD
TZOFFSETFROM:+0200
TZOFFSETTO:+0100
TZNAME:CET
DTSTART:20221030T010000
END:STANDARD
END:VTIMEZONE
BEGIN:VEVENT
DTSTART;TZID=Europe/Brussels:20220301T070000
DTEND;TZID=Europe/Brussels:20220301T080000
DTSTAMP:20260423T044131
CREATED:20220210T154535Z
LAST-MODIFIED:20220210T154535Z
UID:1232-1646118000-1646121600@www.arfcv.fr
SUMMARY:TC - foie et voies biliaires partie 2
DESCRIPTION:Tobias Club
URL:https://www.arfcv.fr/event/tc-foie-et-voies-biliaires-partie-2/
END:VEVENT
BEGIN:VEVENT
DTSTART;TZID=Europe/Brussels:20220315T070000
DTEND;TZID=Europe/Brussels:20220315T080000
DTSTAMP:20260423T044131
CREATED:20220127T140118Z
LAST-MODIFIED:20220301T164842Z
UID:1208-1647327600-1647331200@www.arfcv.fr
SUMMARY:JC - Tissus mous
DESCRIPTION:Journal Club
URL:https://www.arfcv.fr/event/jc-tissus-mous/
END:VEVENT
BEGIN:VEVENT
DTSTART;TZID=Europe/Brussels:20220322T070000
DTEND;TZID=Europe/Brussels:20220322T080000
DTSTAMP:20260423T044131
CREATED:20220121T135355Z
LAST-MODIFIED:20220121T135355Z
UID:1198-1647932400-1647936000@www.arfcv.fr
SUMMARY:JC - Total Hip replacement designs
DESCRIPTION:Journal Club
URL:https://www.arfcv.fr/event/jc-total-hip-replacement-designs/
END:VEVENT
BEGIN:VEVENT
DTSTART;TZID=Europe/Brussels:20220329T070000
DTEND;TZID=Europe/Brussels:20220329T080000
DTSTAMP:20260423T044131
CREATED:20220327T202719Z
LAST-MODIFIED:20220327T202719Z
UID:1283-1648537200-1648540800@www.arfcv.fr
SUMMARY:TC - Tarsus and Metatarsus
DESCRIPTION:Tobias Club
URL:https://www.arfcv.fr/event/tc-tarsus-and-metatarsus/
END:VEVENT
END:VCALENDAR