BEGIN:VCALENDAR
VERSION:2.0
PRODID:-//ARFCV - ECPv6.3.6//NONSGML v1.0//EN
CALSCALE:GREGORIAN
METHOD:PUBLISH
X-WR-CALNAME:ARFCV
X-ORIGINAL-URL:https://www.arfcv.fr
X-WR-CALDESC:évènements pour ARFCV
REFRESH-INTERVAL;VALUE=DURATION:PT1H
X-Robots-Tag:noindex
X-PUBLISHED-TTL:PT1H
BEGIN:VTIMEZONE
TZID:Europe/Brussels
BEGIN:DAYLIGHT
TZOFFSETFROM:+0100
TZOFFSETTO:+0200
TZNAME:CEST
DTSTART:20220327T010000
END:DAYLIGHT
BEGIN:STANDARD
TZOFFSETFROM:+0200
TZOFFSETTO:+0100
TZNAME:CET
DTSTART:20221030T010000
END:STANDARD
END:VTIMEZONE
BEGIN:VEVENT
DTSTART;TZID=Europe/Brussels:20220405T070000
DTEND;TZID=Europe/Brussels:20220405T080000
DTSTAMP:20260423T024239
CREATED:20220130T180156Z
LAST-MODIFIED:20220220T225329Z
UID:1219-1649142000-1649145600@www.arfcv.fr
SUMMARY:JC - JC – Cruciate
DESCRIPTION:Journal Club
URL:https://www.arfcv.fr/event/jc-jc-cruciate/
END:VEVENT
BEGIN:VEVENT
DTSTART;TZID=Europe/Brussels:20220412T070000
DTEND;TZID=Europe/Brussels:20220412T080000
DTSTAMP:20260423T024239
CREATED:20220327T203019Z
LAST-MODIFIED:20220327T203019Z
UID:1285-1649746800-1649750400@www.arfcv.fr
SUMMARY:TC - Miscellaneous Orthopedic Conditions
DESCRIPTION:Tobias Club
URL:https://www.arfcv.fr/event/tc-miscellaneous-orthopedic-conditions/
END:VEVENT
BEGIN:VEVENT
DTSTART;TZID=Europe/Brussels:20220419T070000
DTEND;TZID=Europe/Brussels:20220419T080000
DTSTAMP:20260423T024239
CREATED:20220305T153512Z
LAST-MODIFIED:20220305T153512Z
UID:1271-1650351600-1650355200@www.arfcv.fr
SUMMARY:JC - Feedback Exam : Margaux\, Paul et Arnaud
DESCRIPTION:Journal Club
URL:https://www.arfcv.fr/event/jc-feedback-exam-margaux-paul-et-arnaud/
END:VEVENT
BEGIN:VEVENT
DTSTART;TZID=Europe/Brussels:20220426T070000
DTEND;TZID=Europe/Brussels:20220426T080000
DTSTAMP:20260423T024239
CREATED:20220219T125605Z
LAST-MODIFIED:20220219T131517Z
UID:1236-1650956400-1650960000@www.arfcv.fr
SUMMARY:JC - Chirurgie articulaire
DESCRIPTION:Journal Club
URL:https://www.arfcv.fr/event/jc-chirurgie-articulaire/
END:VEVENT
END:VCALENDAR