BEGIN:VCALENDAR
VERSION:2.0
PRODID:-//ARFCV - ECPv6.3.6//NONSGML v1.0//EN
CALSCALE:GREGORIAN
METHOD:PUBLISH
X-WR-CALNAME:ARFCV
X-ORIGINAL-URL:https://www.arfcv.fr
X-WR-CALDESC:évènements pour ARFCV
REFRESH-INTERVAL;VALUE=DURATION:PT1H
X-Robots-Tag:noindex
X-PUBLISHED-TTL:PT1H
BEGIN:VTIMEZONE
TZID:Europe/Brussels
BEGIN:DAYLIGHT
TZOFFSETFROM:+0100
TZOFFSETTO:+0200
TZNAME:CEST
DTSTART:20220327T010000
END:DAYLIGHT
BEGIN:STANDARD
TZOFFSETFROM:+0200
TZOFFSETTO:+0100
TZNAME:CET
DTSTART:20221030T010000
END:STANDARD
END:VTIMEZONE
BEGIN:VEVENT
DTSTART;TZID=Europe/Brussels:20220503T070000
DTEND;TZID=Europe/Brussels:20220503T080000
DTSTAMP:20260423T004736
CREATED:20220304T194343Z
LAST-MODIFIED:20220304T194343Z
UID:1269-1651561200-1651564800@www.arfcv.fr
SUMMARY:JC - Luxation de rotule et déformation angulaire
DESCRIPTION:Journal Club
URL:https://www.arfcv.fr/event/jc-luxation-de-rotule-et-deformation-angulaire/
END:VEVENT
BEGIN:VEVENT
DTSTART;TZID=Europe/Brussels:20220510T070000
DTEND;TZID=Europe/Brussels:20220510T080000
DTSTAMP:20260423T004736
CREATED:20220405T080916Z
LAST-MODIFIED:20220405T080916Z
UID:1293-1652166000-1652169600@www.arfcv.fr
SUMMARY:JC - Maxillo-faciale
DESCRIPTION:Journal Club
URL:https://www.arfcv.fr/event/jc-maxillo-faciale-2/
END:VEVENT
BEGIN:VEVENT
DTSTART;TZID=Europe/Brussels:20220517T070000
DTEND;TZID=Europe/Brussels:20220517T080000
DTSTAMP:20260423T004736
CREATED:20220316T092106Z
LAST-MODIFIED:20220316T092106Z
UID:1276-1652770800-1652774400@www.arfcv.fr
SUMMARY:JC - Chylothorax
DESCRIPTION:Journal Club
URL:https://www.arfcv.fr/event/jc-chylothorax/
END:VEVENT
BEGIN:VEVENT
DTSTART;TZID=Europe/Brussels:20220524T070000
DTEND;TZID=Europe/Brussels:20220524T080000
DTSTAMP:20260423T004736
CREATED:20220519T081650Z
LAST-MODIFIED:20220522T202843Z
UID:1313-1653375600-1653379200@www.arfcv.fr
SUMMARY:TC - Miscellaneous Orthopedic Conditions
DESCRIPTION:Tobias Club
URL:https://www.arfcv.fr/event/tc-muscle-and-tendon-disorders/
END:VEVENT
BEGIN:VEVENT
DTSTART;TZID=Europe/Brussels:20220531T070000
DTEND;TZID=Europe/Brussels:20220531T080000
DTSTAMP:20260423T004736
CREATED:20220522T203004Z
LAST-MODIFIED:20220522T203004Z
UID:1321-1653980400-1653984000@www.arfcv.fr
SUMMARY:TC - Muscle and Tendon Disorders
DESCRIPTION:Tobias Club
URL:https://www.arfcv.fr/event/tc-muscle-and-tendon-disorders-2/
END:VEVENT
END:VCALENDAR