BEGIN:VCALENDAR
VERSION:2.0
PRODID:-//ARFCV - ECPv6.3.6//NONSGML v1.0//EN
CALSCALE:GREGORIAN
METHOD:PUBLISH
X-WR-CALNAME:ARFCV
X-ORIGINAL-URL:https://www.arfcv.fr
X-WR-CALDESC:évènements pour ARFCV
REFRESH-INTERVAL;VALUE=DURATION:PT1H
X-Robots-Tag:noindex
X-PUBLISHED-TTL:PT1H
BEGIN:VTIMEZONE
TZID:Europe/Brussels
BEGIN:DAYLIGHT
TZOFFSETFROM:+0100
TZOFFSETTO:+0200
TZNAME:CEST
DTSTART:20220327T010000
END:DAYLIGHT
BEGIN:STANDARD
TZOFFSETFROM:+0200
TZOFFSETTO:+0100
TZNAME:CET
DTSTART:20221030T010000
END:STANDARD
END:VTIMEZONE
BEGIN:VEVENT
DTSTART;TZID=Europe/Brussels:20221108T070000
DTEND;TZID=Europe/Brussels:20221108T080000
DTSTAMP:20260422T134521
CREATED:20230101T222314Z
LAST-MODIFIED:20230101T222314Z
UID:1478-1667890800-1667894400@www.arfcv.fr
SUMMARY:TC - Thoracolumbar vertebral column
DESCRIPTION:Tobias Club
URL:https://www.arfcv.fr/event/tc-thoracolumbar-vertebral-column/
END:VEVENT
BEGIN:VEVENT
DTSTART;TZID=Europe/Brussels:20221115T070000
DTEND;TZID=Europe/Brussels:20221115T080000
DTSTAMP:20260422T134521
CREATED:20220831T145920Z
LAST-MODIFIED:20220831T145920Z
UID:1373-1668495600-1668499200@www.arfcv.fr
SUMMARY:JC - digestive
DESCRIPTION:Journal Club
URL:https://www.arfcv.fr/event/jc-digestive-2/
END:VEVENT
BEGIN:VEVENT
DTSTART;TZID=Europe/Brussels:20221122T070000
DTEND;TZID=Europe/Brussels:20221122T080000
DTSTAMP:20260422T134521
CREATED:20221014T121621Z
LAST-MODIFIED:20221014T121621Z
UID:1437-1669100400-1669104000@www.arfcv.fr
SUMMARY:JC - Urétrostomies
DESCRIPTION:Journal Club
URL:https://www.arfcv.fr/event/jc-uretrostomies/
END:VEVENT
BEGIN:VEVENT
DTSTART;TZID=Europe/Brussels:20221122T070000
DTEND;TZID=Europe/Brussels:20221122T080000
DTSTAMP:20260422T134521
CREATED:20221106T095207Z
LAST-MODIFIED:20221106T095207Z
UID:1456-1669100400-1669104000@www.arfcv.fr
SUMMARY:JC - Sialocele
DESCRIPTION:Journal Club
URL:https://www.arfcv.fr/event/jc-sialocele/
END:VEVENT
BEGIN:VEVENT
DTSTART;TZID=Europe/Brussels:20221129T070000
DTEND;TZID=Europe/Brussels:20221129T080000
DTSTAMP:20260422T134521
CREATED:20221012T193905Z
LAST-MODIFIED:20221012T193905Z
UID:1427-1669705200-1669708800@www.arfcv.fr
SUMMARY:JC - Laryngeal paralysis
DESCRIPTION:Journal Club
URL:https://www.arfcv.fr/event/jc-laryngeal-paralysis/
END:VEVENT
END:VCALENDAR